BEGIN:VCALENDAR
VERSION:2.0
PRODID:-//Rainier South Sound Vintage Thunderbird Club - ECPv6.15.20//NONSGML v1.0//EN
CALSCALE:GREGORIAN
METHOD:PUBLISH
X-WR-CALNAME:Rainier South Sound Vintage Thunderbird Club
X-ORIGINAL-URL:https://www.rssvtc.org
X-WR-CALDESC:Events for Rainier South Sound Vintage Thunderbird Club
REFRESH-INTERVAL;VALUE=DURATION:PT1H
X-Robots-Tag:noindex
X-PUBLISHED-TTL:PT1H
BEGIN:VTIMEZONE
TZID:America/Los_Angeles
BEGIN:DAYLIGHT
TZOFFSETFROM:-0800
TZOFFSETTO:-0700
TZNAME:PDT
DTSTART:20240310T100000
END:DAYLIGHT
BEGIN:STANDARD
TZOFFSETFROM:-0700
TZOFFSETTO:-0800
TZNAME:PST
DTSTART:20241103T090000
END:STANDARD
BEGIN:DAYLIGHT
TZOFFSETFROM:-0800
TZOFFSETTO:-0700
TZNAME:PDT
DTSTART:20250309T100000
END:DAYLIGHT
BEGIN:STANDARD
TZOFFSETFROM:-0700
TZOFFSETTO:-0800
TZNAME:PST
DTSTART:20251102T090000
END:STANDARD
BEGIN:DAYLIGHT
TZOFFSETFROM:-0800
TZOFFSETTO:-0700
TZNAME:PDT
DTSTART:20260308T100000
END:DAYLIGHT
BEGIN:STANDARD
TZOFFSETFROM:-0700
TZOFFSETTO:-0800
TZNAME:PST
DTSTART:20261101T090000
END:STANDARD
END:VTIMEZONE
BEGIN:VEVENT
DTSTART;TZID=America/Los_Angeles:20250719T070000
DTEND;TZID=America/Los_Angeles:20250719T153000
DTSTAMP:20260420T073139
CREATED:20250509T214327Z
LAST-MODIFIED:20250509T214327Z
UID:1492-1752908400-1752939000@www.rssvtc.org
SUMMARY:Bremerton Elks Car Show
DESCRIPTION:More classes\, More trophies! Come out and enjoy the day with us! Lodge 1181 welcomes special interest cars of all kinds to this annual event. Event is free to the public.
URL:https://www.rssvtc.org/event/bremerton-elks-car-show-2/
LOCATION:Bremerton Elks Club\, 4131 Pine Rd N E\, Bremerton\, WA\, 98310\, United States
CATEGORIES:Extra Events,Show
END:VEVENT
END:VCALENDAR