BEGIN:VCALENDAR
VERSION:2.0
PRODID:-//Rainier South Sound Vintage Thunderbird Club - ECPv6.15.20//NONSGML v1.0//EN
CALSCALE:GREGORIAN
METHOD:PUBLISH
X-WR-CALNAME:Rainier South Sound Vintage Thunderbird Club
X-ORIGINAL-URL:https://www.rssvtc.org
X-WR-CALDESC:Events for Rainier South Sound Vintage Thunderbird Club
REFRESH-INTERVAL;VALUE=DURATION:PT1H
X-Robots-Tag:noindex
X-PUBLISHED-TTL:PT1H
BEGIN:VTIMEZONE
TZID:America/Los_Angeles
BEGIN:DAYLIGHT
TZOFFSETFROM:-0800
TZOFFSETTO:-0700
TZNAME:PDT
DTSTART:20230312T100000
END:DAYLIGHT
BEGIN:STANDARD
TZOFFSETFROM:-0700
TZOFFSETTO:-0800
TZNAME:PST
DTSTART:20231105T090000
END:STANDARD
BEGIN:DAYLIGHT
TZOFFSETFROM:-0800
TZOFFSETTO:-0700
TZNAME:PDT
DTSTART:20240310T100000
END:DAYLIGHT
BEGIN:STANDARD
TZOFFSETFROM:-0700
TZOFFSETTO:-0800
TZNAME:PST
DTSTART:20241103T090000
END:STANDARD
BEGIN:DAYLIGHT
TZOFFSETFROM:-0800
TZOFFSETTO:-0700
TZNAME:PDT
DTSTART:20250309T100000
END:DAYLIGHT
BEGIN:STANDARD
TZOFFSETFROM:-0700
TZOFFSETTO:-0800
TZNAME:PST
DTSTART:20251102T090000
END:STANDARD
END:VTIMEZONE
BEGIN:VEVENT
DTSTART;TZID=America/Los_Angeles:20240825T080000
DTEND;TZID=America/Los_Angeles:20240825T150000
DTSTAMP:20260419T090450
CREATED:20240803T194256Z
LAST-MODIFIED:20240803T194719Z
UID:1299-1724572800-1724598000@www.rssvtc.org
SUMMARY:Cruisin' Sunday Annual car show
DESCRIPTION:This event is packed with fun for all ages! BBQ\, soft drinks and ice cream! over 350 vehicles! Have one? Bring it! registration is free\, admission is free! \nOn this event’s venue website\, go to: “ministries” then “cruisin sunday” for details.
URL:https://www.rssvtc.org/event/cruisin-sunday-annual-car-show/
LOCATION:Christian Life Center church\, 1780 Lincoln Ave S E\, Port Orchard\, WA\, 98366\, United States
CATEGORIES:Extra Events,Show
END:VEVENT
END:VCALENDAR