BEGIN:VCALENDAR
VERSION:2.0
PRODID:-//Rainier South Sound Vintage Thunderbird Club - ECPv6.15.20//NONSGML v1.0//EN
CALSCALE:GREGORIAN
METHOD:PUBLISH
X-ORIGINAL-URL:https://www.rssvtc.org
X-WR-CALDESC:Events for Rainier South Sound Vintage Thunderbird Club
REFRESH-INTERVAL;VALUE=DURATION:PT1H
X-Robots-Tag:noindex
X-PUBLISHED-TTL:PT1H
BEGIN:VTIMEZONE
TZID:America/Los_Angeles
BEGIN:DAYLIGHT
TZOFFSETFROM:-0800
TZOFFSETTO:-0700
TZNAME:PDT
DTSTART:20230312T100000
END:DAYLIGHT
BEGIN:STANDARD
TZOFFSETFROM:-0700
TZOFFSETTO:-0800
TZNAME:PST
DTSTART:20231105T090000
END:STANDARD
BEGIN:DAYLIGHT
TZOFFSETFROM:-0800
TZOFFSETTO:-0700
TZNAME:PDT
DTSTART:20240310T100000
END:DAYLIGHT
BEGIN:STANDARD
TZOFFSETFROM:-0700
TZOFFSETTO:-0800
TZNAME:PST
DTSTART:20241103T090000
END:STANDARD
BEGIN:DAYLIGHT
TZOFFSETFROM:-0800
TZOFFSETTO:-0700
TZNAME:PDT
DTSTART:20250309T100000
END:DAYLIGHT
BEGIN:STANDARD
TZOFFSETFROM:-0700
TZOFFSETTO:-0800
TZNAME:PST
DTSTART:20251102T090000
END:STANDARD
END:VTIMEZONE
BEGIN:VEVENT
DTSTART;TZID=America/Los_Angeles:20240616T100000
DTEND;TZID=America/Los_Angeles:20240616T160000
DTSTAMP:20260419T055246
CREATED:20240522T023558Z
LAST-MODIFIED:20240522T023558Z
UID:1215-1718532000-1718553600@www.rssvtc.org
SUMMARY:Burien Car Show
DESCRIPTION:Come out for Father’s Day to the Burien car show in downtown Burien! 10am- 4pm. \nhttps://www.discoverburien.org/events-calendar/2024/fathers-day-car-show
URL:https://www.rssvtc.org/event/burien-car-show/
LOCATION:WA
CATEGORIES:Show
END:VEVENT
END:VCALENDAR