BEGIN:VCALENDAR
VERSION:2.0
PRODID:-//Rainier South Sound Vintage Thunderbird Club - ECPv6.15.20//NONSGML v1.0//EN
CALSCALE:GREGORIAN
METHOD:PUBLISH
X-ORIGINAL-URL:https://www.rssvtc.org
X-WR-CALDESC:Events for Rainier South Sound Vintage Thunderbird Club
REFRESH-INTERVAL;VALUE=DURATION:PT1H
X-Robots-Tag:noindex
X-PUBLISHED-TTL:PT1H
BEGIN:VTIMEZONE
TZID:America/Los_Angeles
BEGIN:DAYLIGHT
TZOFFSETFROM:-0800
TZOFFSETTO:-0700
TZNAME:PDT
DTSTART:20230312T100000
END:DAYLIGHT
BEGIN:STANDARD
TZOFFSETFROM:-0700
TZOFFSETTO:-0800
TZNAME:PST
DTSTART:20231105T090000
END:STANDARD
BEGIN:DAYLIGHT
TZOFFSETFROM:-0800
TZOFFSETTO:-0700
TZNAME:PDT
DTSTART:20240310T100000
END:DAYLIGHT
BEGIN:STANDARD
TZOFFSETFROM:-0700
TZOFFSETTO:-0800
TZNAME:PST
DTSTART:20241103T090000
END:STANDARD
BEGIN:DAYLIGHT
TZOFFSETFROM:-0800
TZOFFSETTO:-0700
TZNAME:PDT
DTSTART:20250309T100000
END:DAYLIGHT
BEGIN:STANDARD
TZOFFSETFROM:-0700
TZOFFSETTO:-0800
TZNAME:PST
DTSTART:20251102T090000
END:STANDARD
END:VTIMEZONE
BEGIN:VEVENT
DTSTART;TZID=America/Los_Angeles:20240518T100000
DTEND;TZID=America/Los_Angeles:20240518T140000
DTSTAMP:20260419T074215
CREATED:20240213T190610Z
LAST-MODIFIED:20240214T043406Z
UID:1019-1716026400-1716040800@www.rssvtc.org
SUMMARY:Knock the Dust Off show
DESCRIPTION:Spring show and Charity DriveAberdeen\, WA \nThis May\, come out to the coast and celebrate the 44th anniversary of the eruption of Mt. St. Helens by attending a car show!
URL:https://www.rssvtc.org/event/knock-the-dust-off-show/
LOCATION:Interstate Honda\, 1720 Simpson Ave.\, Aberdeen\, 98520\, United States
CATEGORIES:Show
END:VEVENT
END:VCALENDAR