BEGIN:VCALENDAR
VERSION:2.0
PRODID:-//Rainier South Sound Vintage Thunderbird Club - ECPv6.15.20//NONSGML v1.0//EN
CALSCALE:GREGORIAN
METHOD:PUBLISH
X-WR-CALNAME:Rainier South Sound Vintage Thunderbird Club
X-ORIGINAL-URL:https://www.rssvtc.org
X-WR-CALDESC:Events for Rainier South Sound Vintage Thunderbird Club
REFRESH-INTERVAL;VALUE=DURATION:PT1H
X-Robots-Tag:noindex
X-PUBLISHED-TTL:PT1H
BEGIN:VTIMEZONE
TZID:America/Los_Angeles
BEGIN:DAYLIGHT
TZOFFSETFROM:-0800
TZOFFSETTO:-0700
TZNAME:PDT
DTSTART:20240310T100000
END:DAYLIGHT
BEGIN:STANDARD
TZOFFSETFROM:-0700
TZOFFSETTO:-0800
TZNAME:PST
DTSTART:20241103T090000
END:STANDARD
BEGIN:DAYLIGHT
TZOFFSETFROM:-0800
TZOFFSETTO:-0700
TZNAME:PDT
DTSTART:20250309T100000
END:DAYLIGHT
BEGIN:STANDARD
TZOFFSETFROM:-0700
TZOFFSETTO:-0800
TZNAME:PST
DTSTART:20251102T090000
END:STANDARD
BEGIN:DAYLIGHT
TZOFFSETFROM:-0800
TZOFFSETTO:-0700
TZNAME:PDT
DTSTART:20260308T100000
END:DAYLIGHT
BEGIN:STANDARD
TZOFFSETFROM:-0700
TZOFFSETTO:-0800
TZNAME:PST
DTSTART:20261101T090000
END:STANDARD
END:VTIMEZONE
BEGIN:VEVENT
DTSTART;TZID=America/Los_Angeles:20250802T090000
DTEND;TZID=America/Los_Angeles:20250802T113000
DTSTAMP:20260420T225319
CREATED:20250722T003522Z
LAST-MODIFIED:20250722T003522Z
UID:1530-1754125200-1754134200@www.rssvtc.org
SUMMARY:August Meeting
DESCRIPTION:Come join us at the Clubhouse Grill on 6th Ave in Tacoma for breakfast and our meeting. All are welcome. It’s a great time! Meeting starts about 10am.
URL:https://www.rssvtc.org/event/august-meeting-4/
LOCATION:Ben Dew’s Clubhouse Grill\, 6501 6th Ave.\, Tacoma\, WA\, 98406\, United States
CATEGORIES:Monthly Meetings
END:VEVENT
END:VCALENDAR