BEGIN:VCALENDAR
VERSION:2.0
PRODID:-//Rainier South Sound Vintage Thunderbird Club - ECPv6.15.20//NONSGML v1.0//EN
CALSCALE:GREGORIAN
METHOD:PUBLISH
X-ORIGINAL-URL:https://www.rssvtc.org
X-WR-CALDESC:Events for Rainier South Sound Vintage Thunderbird Club
REFRESH-INTERVAL;VALUE=DURATION:PT1H
X-Robots-Tag:noindex
X-PUBLISHED-TTL:PT1H
BEGIN:VTIMEZONE
TZID:America/Los_Angeles
BEGIN:DAYLIGHT
TZOFFSETFROM:-0800
TZOFFSETTO:-0700
TZNAME:PDT
DTSTART:20240310T100000
END:DAYLIGHT
BEGIN:STANDARD
TZOFFSETFROM:-0700
TZOFFSETTO:-0800
TZNAME:PST
DTSTART:20241103T090000
END:STANDARD
BEGIN:DAYLIGHT
TZOFFSETFROM:-0800
TZOFFSETTO:-0700
TZNAME:PDT
DTSTART:20250309T100000
END:DAYLIGHT
BEGIN:STANDARD
TZOFFSETFROM:-0700
TZOFFSETTO:-0800
TZNAME:PST
DTSTART:20251102T090000
END:STANDARD
BEGIN:DAYLIGHT
TZOFFSETFROM:-0800
TZOFFSETTO:-0700
TZNAME:PDT
DTSTART:20260308T100000
END:DAYLIGHT
BEGIN:STANDARD
TZOFFSETFROM:-0700
TZOFFSETTO:-0800
TZNAME:PST
DTSTART:20261101T090000
END:STANDARD
END:VTIMEZONE
BEGIN:VEVENT
DTSTART;TZID=America/Los_Angeles:20250405T090000
DTEND;TZID=America/Los_Angeles:20250405T113000
DTSTAMP:20260420T155241
CREATED:20250117T004341Z
LAST-MODIFIED:20250117T004341Z
UID:1476-1743843600-1743852600@www.rssvtc.org
SUMMARY:April meeting
DESCRIPTION:Join us as we start the new year off with our first meeting of the year. All are welcome to attend as we enjoy a breakfast together and discuss the business and socialize about our lives with cars.
URL:https://www.rssvtc.org/event/april-meeting-3/
LOCATION:Ben Dew’s Clubhouse Grill\, 6501 6th Ave.\, Tacoma\, WA\, 98406\, United States
CATEGORIES:Monthly Meetings
END:VEVENT
END:VCALENDAR